BEGIN:VCALENDAR
VERSION:2.0
PRODID:-//eventon.com NONSGML v1.0//EN
CALSCALE:GREGORIAN
METHOD:PUBLISH
BEGIN:VEVENT
UID:69e8f5d211dd0
DTSTAMP:20260422T162242Z
DTSTART:20250606T170000Z
DTEND:20250609T030000Z
LOCATION:Mel Lastman Square 5100 Yonge Street
SUMMARY:Taste Of North York
DESCRIPTION:Neighbours everywhere are invited to join us for the third Tast
 e of North York\,  a three-day Community &amp; Food festival celebrating ev
 erything that makes North York such a special place to live! Celebrate our 
 community&#8217;s diverse cultures including Korean\,  Chinese\,  Persian\,
   Ukrainian\,  Latin-American\,  Indian and more! The festival featured eve
 n[..]\nhttps://yongenorthyork.com/events/taste-of-north-york-3/
URL:https://yongenorthyork.com/events/taste-of-north-york-3/
END:VEVENT
END:VCALENDAR